BEGIN:VCALENDAR
VERSION:2.0
PRODID:-//eventon.com NONSGML v1.0//EN
CALSCALE:GREGORIAN
METHOD:PUBLISH
BEGIN:VEVENT
UID:69ecd782850e5
DTSTAMP:20260425T150226Z
DTSTART:20260820T190000Z
DTEND:20260820T203000Z
LOCATION:
SUMMARY:Zoom Meeting
DESCRIPTION:• Zoom Meeting. • Lecture by Brendan Murray DPS.Ref.0016. 
  Members will be informed of an “Agenda/Theme” via DPS.BH “WhatsApp
 ” and e.Mail with an attached “Information” file (9906-).\nhttps://dr
 oghedaphotographicsociety.com/events/zoom-meeting-2/
URL:https://droghedaphotographicsociety.com/events/zoom-meeting-2/
END:VEVENT
END:VCALENDAR