BEGIN:VCALENDAR
VERSION:2.0
PRODID:-//eventon.com NONSGML v1.0//EN
CALSCALE:GREGORIAN
METHOD:PUBLISH
BEGIN:VEVENT
UID:69e752bdd9815
DTSTAMP:20260421T103437Z
DTSTART:20261119T194500Z
DTEND:20261119T221500Z
LOCATION:
SUMMARY:Photographic Print Competition
DESCRIPTION:• Photographic Print Competition. • Venue : Barlow House : 
 Narrow West Street (eir A92 CPF9). • Time : 7.45 pm to 10.15 pm 19th Text
  Document Identity Code / 9904-100.02.15-Adp.Shr.1.1 Hard Drive / DPS.BH 7 
 Calendar DPS.Ref.002 • Prints for contention are submitted/registered fro
 m 7.45 pm. • This photographic[..]\nhttps://droghedaphotographicsociety.c
 om/events/photographic-print-competition/
URL:https://droghedaphotographicsociety.com/events/photographic-print-competition/
END:VEVENT
END:VCALENDAR