BEGIN:VCALENDAR
VERSION:2.0
PRODID:-//eventon.com NONSGML v1.0//EN
CALSCALE:GREGORIAN
METHOD:PUBLISH
BEGIN:VEVENT
UID:69e7525bd3a81
DTSTAMP:20260421T103259Z
DTSTART:20261009
DTEND:20261010
LOCATION:
SUMMARY:Final day of acceptance for Digital Photographic Slides Criteria Competition
DESCRIPTION:• This is the final day of acceptance for Digital Photographi
 c Slides Criteria Competition contentions. • This photographic competitio
 n is titled “Digital Photographic Slides Criteria Competition” and is o
 pen to currently enrolled members only.\nhttps://droghedaphotographicsociet
 y.com/events/final-day-of-acceptance-for-digital-photographic-slides/
URL:https://droghedaphotographicsociety.com/events/final-day-of-acceptance-for-digital-photographic-slides/
END:VEVENT
END:VCALENDAR